Package: sizepower Version: 1.76.0 Command: /Library/Frameworks/R.framework/Resources/bin/R CMD build --keep-empty-dirs --no-resave-data sizepower StartedAt: 2025-01-27 22:43:26 -0500 (Mon, 27 Jan 2025) EndedAt: 2025-01-27 22:43:41 -0500 (Mon, 27 Jan 2025) EllapsedTime: 15.0 seconds RetCode: 0 Status: OK PackageFile: sizepower_1.76.0.tar.gz PackageFileSize: 295.7 KiB