Package: sizepower Version: 1.76.0 Command: /Library/Frameworks/R.framework/Resources/bin/R CMD INSTALL sizepower StartedAt: 2025-01-27 15:03:59 -0500 (Mon, 27 Jan 2025) EndedAt: 2025-01-27 15:04:02 -0500 (Mon, 27 Jan 2025) EllapsedTime: 2.5 seconds RetCode: 0 Status: OK