Package: sitePath Version: 1.22.0 Command: /home/biocbuild/R/R/bin/R CMD build --keep-empty-dirs --no-resave-data sitePath StartedAt: 2025-02-04 03:05:23 -0000 (Tue, 04 Feb 2025) EndedAt: 2025-02-04 03:07:12 -0000 (Tue, 04 Feb 2025) EllapsedTime: 109.2 seconds RetCode: 0 Status: OK PackageFile: sitePath_1.22.0.tar.gz PackageFileSize: 907.5 KiB