Package: sitadela Version: 1.14.0 Command: /home/biocbuild/R/R/bin/R CMD build --keep-empty-dirs --no-resave-data sitadela StartedAt: 2025-01-31 02:47:46 -0000 (Fri, 31 Jan 2025) EndedAt: 2025-01-31 02:50:47 -0000 (Fri, 31 Jan 2025) EllapsedTime: 180.2 seconds RetCode: 0 Status: OK PackageFile: sitadela_1.14.0.tar.gz PackageFileSize: 550.5 KiB