Package: sitadela Version: 1.14.0 Command: chmod a+r sitadela -R && F:\biocbuild\bbs-3.20-bioc\R\bin\R.exe CMD build --keep-empty-dirs --no-resave-data sitadela StartedAt: 2025-01-30 21:56:34 -0500 (Thu, 30 Jan 2025) EndedAt: 2025-01-30 21:59:40 -0500 (Thu, 30 Jan 2025) EllapsedTime: 186.7 seconds RetCode: 0 Status: OK PackageFile: sitadela_1.14.0.tar.gz PackageFileSize: 485.7 KiB