Package: sitadela Version: 1.14.0 Command: rm -rf sitadela.buildbin-libdir && mkdir sitadela.buildbin-libdir && F:\biocbuild\bbs-3.20-bioc\R\bin\R.exe CMD INSTALL --build --library=sitadela.buildbin-libdir sitadela_1.14.0.tar.gz StartedAt: 2025-01-31 09:39:21 -0500 (Fri, 31 Jan 2025) EndedAt: 2025-01-31 09:40:12 -0500 (Fri, 31 Jan 2025) EllapsedTime: 50.8 seconds RetCode: 0 Status: OK PackageFile: sitadela_1.14.0.zip PackageFileSize: 720 KiB