Package: sitadela Version: 1.14.0 Command: /home/biocbuild/bbs-3.20-bioc/R/bin/R CMD build --keep-empty-dirs --no-resave-data --md5 sitadela StartedAt: 2025-01-30 19:12:59 -0500 (Thu, 30 Jan 2025) EndedAt: 2025-01-30 19:15:16 -0500 (Thu, 30 Jan 2025) EllapsedTime: 136.2 seconds RetCode: 0 Status: OK PackageFile: sitadela_1.14.0.tar.gz PackageFileSize: 486.9 KiB