Package: sitadela Version: 1.14.0 Command: /Library/Frameworks/R.framework/Resources/bin/R CMD check --install=check:sitadela.install-out.txt --library=/Library/Frameworks/R.framework/Resources/library --no-vignettes --timings sitadela_1.14.0.tar.gz StartedAt: 2025-04-01 09:20:14 -0400 (Tue, 01 Apr 2025) EndedAt: 2025-04-01 09:30:59 -0400 (Tue, 01 Apr 2025) EllapsedTime: 644.8 seconds RetCode: 0 Status: OK CheckDir: sitadela.Rcheck Warnings: 0