Package: singscore Version: 1.26.0 Command: /Library/Frameworks/R.framework/Resources/bin/R CMD check --install=check:singscore.install-out.txt --library=/Library/Frameworks/R.framework/Resources/library --no-vignettes --timings singscore_1.26.0.tar.gz StartedAt: 2025-04-02 09:07:59 -0400 (Wed, 02 Apr 2025) EndedAt: 2025-04-02 09:12:33 -0400 (Wed, 02 Apr 2025) EllapsedTime: 274.6 seconds RetCode: 0 Status: OK CheckDir: singscore.Rcheck Warnings: 0