Package: singleCellTK Version: 2.16.1 Command: /home/biocbuild/R/R/bin/R CMD INSTALL singleCellTK StartedAt: 2025-03-31 21:07:03 -0000 (Mon, 31 Mar 2025) EndedAt: 2025-03-31 21:07:59 -0000 (Mon, 31 Mar 2025) EllapsedTime: 55.7 seconds RetCode: 0 Status: OK