Package: singleCellTK Version: 2.16.1 Command: chmod a+r singleCellTK -R && F:\biocbuild\bbs-3.20-bioc\R\bin\R.exe CMD build --keep-empty-dirs --no-resave-data singleCellTK StartedAt: 2025-03-31 21:58:49 -0400 (Mon, 31 Mar 2025) EndedAt: 2025-03-31 22:01:12 -0400 (Mon, 31 Mar 2025) EllapsedTime: 143.5 seconds RetCode: 0 Status: OK PackageFile: singleCellTK_2.16.1.tar.gz PackageFileSize: 3.239 MiB