Package: singleCellTK Version: 2.16.1 Command: /home/biocbuild/bbs-3.20-bioc/R/bin/R CMD INSTALL singleCellTK StartedAt: 2025-03-31 15:57:21 -0400 (Mon, 31 Mar 2025) EndedAt: 2025-03-31 15:58:04 -0400 (Mon, 31 Mar 2025) EllapsedTime: 43.3 seconds RetCode: 0 Status: OK