Package: single Version: 1.10.0 Command: /home/biocbuild/R/R/bin/R CMD INSTALL single StartedAt: 2025-01-27 21:19:38 -0000 (Mon, 27 Jan 2025) EndedAt: 2025-01-27 21:20:10 -0000 (Mon, 27 Jan 2025) EllapsedTime: 32.3 seconds RetCode: 0 Status: OK