Package: single Version: 1.10.0 Command: rm -rf single.buildbin-libdir && mkdir single.buildbin-libdir && F:\biocbuild\bbs-3.20-bioc\R\bin\R.exe CMD INSTALL --build --library=single.buildbin-libdir single_1.10.0.tar.gz StartedAt: 2025-04-01 09:15:03 -0400 (Tue, 01 Apr 2025) EndedAt: 2025-04-01 09:15:42 -0400 (Tue, 01 Apr 2025) EllapsedTime: 39.1 seconds RetCode: 0 Status: OK PackageFile: single_1.10.0.zip PackageFileSize: 1.411 MiB