Package: single Version: 1.10.0 Command: /Library/Frameworks/R.framework/Resources/bin/R CMD INSTALL single StartedAt: 2024-11-19 15:16:10 -0500 (Tue, 19 Nov 2024) EndedAt: 2024-11-19 15:16:46 -0500 (Tue, 19 Nov 2024) EllapsedTime: 36.4 seconds RetCode: 0 Status: OK