Package: sincell Version: 1.38.0 Command: chmod a+r sincell -R && F:\biocbuild\bbs-3.20-bioc\R\bin\R.exe CMD build --keep-empty-dirs --no-resave-data sincell StartedAt: 2025-03-31 21:58:12 -0400 (Mon, 31 Mar 2025) EndedAt: 2025-03-31 22:07:11 -0400 (Mon, 31 Mar 2025) EllapsedTime: 538.7 seconds RetCode: 0 Status: OK PackageFile: sincell_1.38.0.tar.gz PackageFileSize: 952.1 KiB