Package: sincell Version: 1.38.0 Command: rm -rf sincell.buildbin-libdir && mkdir sincell.buildbin-libdir && F:\biocbuild\bbs-3.20-bioc\R\bin\R.exe CMD INSTALL --build --library=sincell.buildbin-libdir sincell_1.38.0.tar.gz StartedAt: 2025-01-28 09:10:47 -0500 (Tue, 28 Jan 2025) EndedAt: 2025-01-28 09:11:23 -0500 (Tue, 28 Jan 2025) EllapsedTime: 35.4 seconds RetCode: 0 Status: OK PackageFile: sincell_1.38.0.zip PackageFileSize: 1.348 MiB