Package: sincell Version: 1.38.0 Command: /home/biocbuild/bbs-3.20-bioc/R/bin/R CMD build --keep-empty-dirs --no-resave-data --md5 sincell StartedAt: 2025-01-27 20:07:00 -0500 (Mon, 27 Jan 2025) EndedAt: 2025-01-27 20:09:46 -0500 (Mon, 27 Jan 2025) EllapsedTime: 166.2 seconds RetCode: 0 Status: OK PackageFile: sincell_1.38.0.tar.gz PackageFileSize: 1.184 MiB