Package: sincell Version: 1.38.0 Command: rm -rf sincell.buildbin-libdir && mkdir sincell.buildbin-libdir && /Users/biocbuild/BBS/utils/build-universal.sh sincell_1.38.0.tar.gz /Library/Frameworks/R.framework/Resources/bin/R sincell.buildbin-libdir StartedAt: 2025-01-28 14:37:03 -0500 (Tue, 28 Jan 2025) EndedAt: 2025-01-28 14:38:02 -0500 (Tue, 28 Jan 2025) EllapsedTime: 59.2 seconds RetCode: 0 Status: OK PackageFile: sincell_1.38.0.tgz PackageFileSize: 1.297 MiB