Package: sincell Version: 1.38.0 Command: /Library/Frameworks/R.framework/Resources/bin/R CMD build --keep-empty-dirs --no-resave-data sincell StartedAt: 2025-01-28 08:12:40 -0500 (Tue, 28 Jan 2025) EndedAt: 2025-01-28 08:16:44 -0500 (Tue, 28 Jan 2025) EllapsedTime: 243.9 seconds RetCode: 0 Status: OK PackageFile: sincell_1.38.0.tar.gz PackageFileSize: 1.184 MiB