Package: simplifyEnrichment Version: 2.0.0 Command: /home/biocbuild/R/R/bin/R CMD build --keep-empty-dirs --no-resave-data simplifyEnrichment StartedAt: 2025-01-31 02:45:49 -0000 (Fri, 31 Jan 2025) EndedAt: 2025-01-31 02:46:13 -0000 (Fri, 31 Jan 2025) EllapsedTime: 24.0 seconds RetCode: 0 Status: OK PackageFile: simplifyEnrichment_2.0.0.tar.gz PackageFileSize: 1.025 MiB