Package: simplifyEnrichment Version: 2.0.0 Command: /home/biocbuild/bbs-3.20-bioc/R/bin/R CMD INSTALL simplifyEnrichment StartedAt: 2025-03-31 15:41:17 -0400 (Mon, 31 Mar 2025) EndedAt: 2025-03-31 15:41:33 -0400 (Mon, 31 Mar 2025) EllapsedTime: 16.5 seconds RetCode: 0 Status: OK