Package: simpleSeg Version: 1.8.1 Command: /home/biocbuild/R/R/bin/R CMD INSTALL simpleSeg StartedAt: 2025-03-31 20:51:36 -0000 (Mon, 31 Mar 2025) EndedAt: 2025-03-31 20:51:38 -0000 (Mon, 31 Mar 2025) EllapsedTime: 1.2 seconds RetCode: 1 Status: ERROR