Package: simona Version: 1.4.0 Command: /Library/Frameworks/R.framework/Resources/bin/R CMD check --install=check:simona.install-out.txt --library=/Library/Frameworks/R.framework/Resources/library --no-vignettes --timings simona_1.4.0.tar.gz StartedAt: 2025-04-02 08:57:11 -0400 (Wed, 02 Apr 2025) EndedAt: 2025-04-02 08:59:36 -0400 (Wed, 02 Apr 2025) EllapsedTime: 145.2 seconds RetCode: 0 Status: OK CheckDir: simona.Rcheck Warnings: 0