Package: similaRpeak Version: 1.38.0 Command: /home/biocbuild/R/R/bin/R CMD build --keep-empty-dirs --no-resave-data similaRpeak StartedAt: 2025-02-04 03:01:42 -0000 (Tue, 04 Feb 2025) EndedAt: 2025-02-04 03:02:34 -0000 (Tue, 04 Feb 2025) EllapsedTime: 52.1 seconds RetCode: 0 Status: OK PackageFile: similaRpeak_1.38.0.tar.gz PackageFileSize: 1.194 MiB