Package: simPIC Version: 1.2.0 Command: chmod a+r simPIC -R && F:\biocbuild\bbs-3.20-bioc\R\bin\R.exe CMD build --keep-empty-dirs --no-resave-data simPIC StartedAt: 2025-03-31 21:57:49 -0400 (Mon, 31 Mar 2025) EndedAt: 2025-03-31 21:59:04 -0400 (Mon, 31 Mar 2025) EllapsedTime: 75.5 seconds RetCode: 0 Status: OK PackageFile: simPIC_1.2.0.tar.gz PackageFileSize: 1.104 MiB