Package: simPIC Version: 1.2.0 Command: /Library/Frameworks/R.framework/Resources/bin/R CMD INSTALL simPIC StartedAt: 2025-01-27 16:17:40 -0500 (Mon, 27 Jan 2025) EndedAt: 2025-01-27 16:18:33 -0500 (Mon, 27 Jan 2025) EllapsedTime: 53.2 seconds RetCode: 0 Status: OK