Package: simPIC Version: 1.2.0 Command: /Library/Frameworks/R.framework/Resources/bin/R CMD build --keep-empty-dirs --no-resave-data simPIC StartedAt: 2025-04-01 07:56:48 -0400 (Tue, 01 Apr 2025) EndedAt: 2025-04-01 07:57:55 -0400 (Tue, 01 Apr 2025) EllapsedTime: 67.5 seconds RetCode: 0 Status: OK PackageFile: simPIC_1.2.0.tar.gz PackageFileSize: 1.149 MiB