Package: sigsquared Version: 1.38.0 Command: /home/biocbuild/R/R/bin/R CMD INSTALL sigsquared StartedAt: 2025-02-10 20:50:32 -0000 (Mon, 10 Feb 2025) EndedAt: 2025-02-10 20:50:42 -0000 (Mon, 10 Feb 2025) EllapsedTime: 9.6 seconds RetCode: 0 Status: OK