Package: sigsquared Version: 1.38.0 Command: /home/biocbuild/R/R/bin/R CMD check --install=check:sigsquared.install-out.txt --library=/home/biocbuild/R/R/site-library --no-vignettes --timings sigsquared_1.38.0.tar.gz StartedAt: 2025-02-11 10:28:19 -0000 (Tue, 11 Feb 2025) EndedAt: 2025-02-11 10:29:28 -0000 (Tue, 11 Feb 2025) EllapsedTime: 69.1 seconds RetCode: 0 Status: OK CheckDir: sigsquared.Rcheck Warnings: 0