Package: sigsquared Version: 1.38.0 Command: /Library/Frameworks/R.framework/Resources/bin/R CMD check --install=check:sigsquared.install-out.txt --library=/Library/Frameworks/R.framework/Resources/library --no-vignettes --timings sigsquared_1.38.0.tar.gz StartedAt: 2025-01-31 10:09:28 -0500 (Fri, 31 Jan 2025) EndedAt: 2025-01-31 10:11:38 -0500 (Fri, 31 Jan 2025) EllapsedTime: 129.4 seconds RetCode: 0 Status: OK CheckDir: sigsquared.Rcheck Warnings: 0