Package: signifinder Version: 1.8.0 Command: /home/biocbuild/R/R/bin/R CMD INSTALL signifinder StartedAt: 2025-01-30 21:08:49 -0000 (Thu, 30 Jan 2025) EndedAt: 2025-01-30 21:09:53 -0000 (Thu, 30 Jan 2025) EllapsedTime: 63.3 seconds RetCode: 0 Status: OK