Package: signifinder Version: 1.8.0 Command: /home/biocbuild/R/R/bin/R CMD check --install=check:signifinder.install-out.txt --library=/home/biocbuild/R/R/site-library --no-vignettes --timings signifinder_1.8.0.tar.gz StartedAt: 2025-01-31 10:27:36 -0000 (Fri, 31 Jan 2025) EndedAt: 2025-01-31 10:40:49 -0000 (Fri, 31 Jan 2025) EllapsedTime: 792.7 seconds RetCode: 1 Status: ERROR CheckDir: signifinder.Rcheck Warnings: NA