Package: signifinder Version: 1.8.0 Command: rm -rf signifinder.buildbin-libdir && mkdir signifinder.buildbin-libdir && F:\biocbuild\bbs-3.20-bioc\R\bin\R.exe CMD INSTALL --build --library=signifinder.buildbin-libdir signifinder_1.8.0.tar.gz StartedAt: 2025-01-31 09:38:03 -0500 (Fri, 31 Jan 2025) EndedAt: 2025-01-31 09:40:06 -0500 (Fri, 31 Jan 2025) EllapsedTime: 123.0 seconds RetCode: 0 Status: OK PackageFile: signifinder_1.8.0.zip PackageFileSize: 5.881 MiB