Package: signifinder Version: 1.8.1 Command: rm -rf signifinder.buildbin-libdir && mkdir signifinder.buildbin-libdir && /Users/biocbuild/BBS/utils/build-universal.sh signifinder_1.8.1.tar.gz /Library/Frameworks/R.framework/Resources/bin/R signifinder.buildbin-libdir StartedAt: 2025-04-01 12:47:04 -0400 (Tue, 01 Apr 2025) EndedAt: 2025-04-01 12:49:01 -0400 (Tue, 01 Apr 2025) EllapsedTime: 117.2 seconds RetCode: 0 Status: OK PackageFile: signifinder_1.8.1.tgz PackageFileSize: 7.489 MiB