Package: signifinder Version: 1.8.0 Command: /Library/Frameworks/R.framework/Resources/bin/R CMD check --install=check:signifinder.install-out.txt --library=/Library/Frameworks/R.framework/Resources/library --no-vignettes --timings signifinder_1.8.0.tar.gz StartedAt: 2024-11-20 02:41:57 -0500 (Wed, 20 Nov 2024) EndedAt: 2024-11-20 02:54:32 -0500 (Wed, 20 Nov 2024) EllapsedTime: 755.3 seconds RetCode: 1 Status: ERROR CheckDir: signifinder.Rcheck Warnings: NA