Package: signifinder Version: 1.8.1 Command: /Library/Frameworks/R.framework/Resources/bin/R CMD check --install=check:signifinder.install-out.txt --library=/Library/Frameworks/R.framework/Resources/library --no-vignettes --timings signifinder_1.8.1.tar.gz StartedAt: 2025-04-02 08:52:02 -0400 (Wed, 02 Apr 2025) EndedAt: 2025-04-02 09:14:24 -0400 (Wed, 02 Apr 2025) EllapsedTime: 1341.7 seconds RetCode: 0 Status: OK CheckDir: signifinder.Rcheck Warnings: 0