Package: signeR Version: 2.8.0 Command: /home/biocbuild/bbs-3.20-bioc/R/bin/R CMD check --install=check:signeR.install-out.txt --library=/home/biocbuild/bbs-3.20-bioc/R/site-library --timings signeR_2.8.0.tar.gz StartedAt: 2025-01-28 03:14:46 -0500 (Tue, 28 Jan 2025) EndedAt: 2025-01-28 03:23:39 -0500 (Tue, 28 Jan 2025) EllapsedTime: 532.5 seconds RetCode: 0 Status: OK CheckDir: signeR.Rcheck Warnings: 0