Package: signatureSearch Version: 1.20.0 Command: /home/biocbuild/R/R/bin/R CMD check --install=check:signatureSearch.install-out.txt --library=/home/biocbuild/R/R/site-library --no-vignettes --timings signatureSearch_1.20.0.tar.gz StartedAt: 2025-01-28 11:19:27 -0000 (Tue, 28 Jan 2025) EndedAt: 2025-01-28 11:28:44 -0000 (Tue, 28 Jan 2025) EllapsedTime: 556.7 seconds RetCode: 0 Status: OK CheckDir: signatureSearch.Rcheck Warnings: 0