Package: signatureSearch Version: 1.20.0 Command: /home/biocbuild/R/R/bin/R CMD build --keep-empty-dirs --no-resave-data signatureSearch StartedAt: 2025-01-28 03:23:08 -0000 (Tue, 28 Jan 2025) EndedAt: 2025-01-28 03:35:15 -0000 (Tue, 28 Jan 2025) EllapsedTime: 726.4 seconds RetCode: 0 Status: OK PackageFile: signatureSearch_1.20.0.tar.gz PackageFileSize: 5.122 MiB