Package: signatureSearch Version: 1.20.0 Command: F:\biocbuild\bbs-3.20-bioc\R\bin\R.exe CMD check --no-multiarch --install=check:signatureSearch.install-out.txt --library=F:\biocbuild\bbs-3.20-bioc\R\library --no-vignettes --timings signatureSearch_1.20.0.tar.gz StartedAt: 2025-01-28 06:00:20 -0500 (Tue, 28 Jan 2025) EndedAt: 2025-01-28 06:09:58 -0500 (Tue, 28 Jan 2025) EllapsedTime: 578.1 seconds RetCode: 0 Status: OK CheckDir: signatureSearch.Rcheck Warnings: 0