Package: signatureSearch Version: 1.20.0 Command: /Library/Frameworks/R.framework/Resources/bin/R CMD INSTALL signatureSearch StartedAt: 2025-01-27 16:19:59 -0500 (Mon, 27 Jan 2025) EndedAt: 2025-01-27 16:23:42 -0500 (Mon, 27 Jan 2025) EllapsedTime: 223.2 seconds RetCode: 0 Status: OK