Package: signatureSearch Version: 1.20.0 Command: /Library/Frameworks/R.framework/Resources/bin/R CMD check --install=check:signatureSearch.install-out.txt --library=/Library/Frameworks/R.framework/Resources/library --no-vignettes --timings signatureSearch_1.20.0.tar.gz StartedAt: 2025-04-01 09:13:15 -0400 (Tue, 01 Apr 2025) EndedAt: 2025-04-01 09:27:58 -0400 (Tue, 01 Apr 2025) EllapsedTime: 883.9 seconds RetCode: 0 Status: OK CheckDir: signatureSearch.Rcheck Warnings: 0