Package: signatureSearch Version: 1.20.0 Command: /Library/Frameworks/R.framework/Resources/bin/R CMD build --keep-empty-dirs --no-resave-data signatureSearch StartedAt: 2025-03-31 22:04:28 -0400 (Mon, 31 Mar 2025) EndedAt: 2025-03-31 22:21:20 -0400 (Mon, 31 Mar 2025) EllapsedTime: 1011.7 seconds RetCode: 0 Status: OK PackageFile: signatureSearch_1.20.0.tar.gz PackageFileSize: 5.287 MiB