Package: sights Version: 1.32.0 Command: /home/biocbuild/R/R/bin/R CMD INSTALL sights StartedAt: 2025-02-03 20:34:14 -0000 (Mon, 03 Feb 2025) EndedAt: 2025-02-03 20:34:29 -0000 (Mon, 03 Feb 2025) EllapsedTime: 15.7 seconds RetCode: 0 Status: OK