Package: sights Version: 1.32.0 Command: /home/biocbuild/R/R/bin/R CMD check --install=check:sights.install-out.txt --library=/home/biocbuild/R/R/site-library --no-vignettes --timings sights_1.32.0.tar.gz StartedAt: 2025-01-31 10:26:32 -0000 (Fri, 31 Jan 2025) EndedAt: 2025-01-31 10:28:31 -0000 (Fri, 31 Jan 2025) EllapsedTime: 119.1 seconds RetCode: 0 Status: OK CheckDir: sights.Rcheck Warnings: 0