Package: sights Version: 1.32.0 Command: /home/biocbuild/R/R/bin/R CMD build --keep-empty-dirs --no-resave-data sights StartedAt: 2025-01-31 02:44:19 -0000 (Fri, 31 Jan 2025) EndedAt: 2025-01-31 02:45:10 -0000 (Fri, 31 Jan 2025) EllapsedTime: 51.1 seconds RetCode: 0 Status: OK PackageFile: sights_1.32.0.tar.gz PackageFileSize: 3.909 MiB