Package: sights Version: 1.32.0 Command: F:\biocbuild\bbs-3.20-bioc\R\bin\R.exe CMD check --no-multiarch --install=check:sights.install-out.txt --library=F:\biocbuild\bbs-3.20-bioc\R\library --no-vignettes --timings sights_1.32.0.tar.gz StartedAt: 2025-04-01 06:01:09 -0400 (Tue, 01 Apr 2025) EndedAt: 2025-04-01 06:03:17 -0400 (Tue, 01 Apr 2025) EllapsedTime: 128.3 seconds RetCode: 0 Status: OK CheckDir: sights.Rcheck Warnings: 0