Package: sights Version: 1.32.0 Command: /Library/Frameworks/R.framework/Resources/bin/R CMD INSTALL sights StartedAt: 2025-01-30 15:25:27 -0500 (Thu, 30 Jan 2025) EndedAt: 2025-01-30 15:25:39 -0500 (Thu, 30 Jan 2025) EllapsedTime: 11.8 seconds RetCode: 0 Status: OK