Package: siggenes Version: 1.80.0 Command: /home/biocbuild/bbs-3.20-bioc/R/bin/R CMD INSTALL siggenes StartedAt: 2025-03-31 15:48:06 -0400 (Mon, 31 Mar 2025) EndedAt: 2025-03-31 15:48:17 -0400 (Mon, 31 Mar 2025) EllapsedTime: 10.7 seconds RetCode: 0 Status: OK